BEGIN:VCALENDAR
VERSION:2.0
PRODID:-//Foundation For Health Care Quality - ECPv6.15.13//NONSGML v1.0//EN
CALSCALE:GREGORIAN
METHOD:PUBLISH
X-ORIGINAL-URL:https://www.qualityhealth.org
X-WR-CALDESC:Events for Foundation For Health Care Quality
REFRESH-INTERVAL;VALUE=DURATION:PT1H
X-Robots-Tag:noindex
X-PUBLISHED-TTL:PT1H
BEGIN:VTIMEZONE
TZID:America/Los_Angeles
BEGIN:DAYLIGHT
TZOFFSETFROM:-0800
TZOFFSETTO:-0700
TZNAME:PDT
DTSTART:20180311T100000
END:DAYLIGHT
BEGIN:STANDARD
TZOFFSETFROM:-0700
TZOFFSETTO:-0800
TZNAME:PST
DTSTART:20181104T090000
END:STANDARD
BEGIN:DAYLIGHT
TZOFFSETFROM:-0800
TZOFFSETTO:-0700
TZNAME:PDT
DTSTART:20190310T100000
END:DAYLIGHT
BEGIN:STANDARD
TZOFFSETFROM:-0700
TZOFFSETTO:-0800
TZNAME:PST
DTSTART:20191103T090000
END:STANDARD
BEGIN:DAYLIGHT
TZOFFSETFROM:-0800
TZOFFSETTO:-0700
TZNAME:PDT
DTSTART:20200308T100000
END:DAYLIGHT
BEGIN:STANDARD
TZOFFSETFROM:-0700
TZOFFSETTO:-0800
TZNAME:PST
DTSTART:20201101T090000
END:STANDARD
END:VTIMEZONE
BEGIN:VEVENT
DTSTART;TZID=America/Los_Angeles:20191205T130000
DTEND;TZID=America/Los_Angeles:20191205T140000
DTSTAMP:20260424T012249
CREATED:20191104T231313Z
LAST-MODIFIED:20191104T231313Z
UID:6772-1575550800-1575554400@www.qualityhealth.org
SUMMARY:CathPCI Data Team Call
DESCRIPTION:
URL:https://www.qualityhealth.org/event/cathpci-data-team-call-2/
LOCATION:Foundation Office
CATEGORIES:COAP Events
END:VEVENT
BEGIN:VEVENT
DTSTART;TZID=America/Los_Angeles:20191218T110000
DTEND;TZID=America/Los_Angeles:20191218T120000
DTSTAMP:20260424T012249
CREATED:20191104T231403Z
LAST-MODIFIED:20191104T231403Z
UID:6774-1576666800-1576670400@www.qualityhealth.org
SUMMARY:STS NW Regional Group Data Manager Call
DESCRIPTION:
URL:https://www.qualityhealth.org/event/sts-nw-regional-group-data-manager-call-2/
LOCATION:Foundation Office
CATEGORIES:COAP Events
END:VEVENT
END:VCALENDAR