BEGIN:VCALENDAR
VERSION:2.0
PRODID:-//Foundation For Health Care Quality - ECPv6.15.13//NONSGML v1.0//EN
CALSCALE:GREGORIAN
METHOD:PUBLISH
X-WR-CALNAME:Foundation For Health Care Quality
X-ORIGINAL-URL:https://www.qualityhealth.org
X-WR-CALDESC:Events for Foundation For Health Care Quality
REFRESH-INTERVAL;VALUE=DURATION:PT1H
X-Robots-Tag:noindex
X-PUBLISHED-TTL:PT1H
BEGIN:VTIMEZONE
TZID:America/Los_Angeles
BEGIN:DAYLIGHT
TZOFFSETFROM:-0800
TZOFFSETTO:-0700
TZNAME:PDT
DTSTART:20190310T100000
END:DAYLIGHT
BEGIN:STANDARD
TZOFFSETFROM:-0700
TZOFFSETTO:-0800
TZNAME:PST
DTSTART:20191103T090000
END:STANDARD
BEGIN:DAYLIGHT
TZOFFSETFROM:-0800
TZOFFSETTO:-0700
TZNAME:PDT
DTSTART:20200308T100000
END:DAYLIGHT
BEGIN:STANDARD
TZOFFSETFROM:-0700
TZOFFSETTO:-0800
TZNAME:PST
DTSTART:20201101T090000
END:STANDARD
BEGIN:DAYLIGHT
TZOFFSETFROM:-0800
TZOFFSETTO:-0700
TZNAME:PDT
DTSTART:20210314T100000
END:DAYLIGHT
BEGIN:STANDARD
TZOFFSETFROM:-0700
TZOFFSETTO:-0800
TZNAME:PST
DTSTART:20211107T090000
END:STANDARD
END:VTIMEZONE
BEGIN:VEVENT
DTSTART;TZID=America/Los_Angeles:20201001T110000
DTEND;TZID=America/Los_Angeles:20201001T120000
DTSTAMP:20260420T044854
CREATED:20200114T161106Z
LAST-MODIFIED:20200114T161106Z
UID:6934-1601550000-1601553600@www.qualityhealth.org
SUMMARY:PCI Data Manager Group Calls
DESCRIPTION:
URL:https://www.qualityhealth.org/event/pci-data-manager-group-calls-5/
LOCATION:See Zoom Invite
CATEGORIES:COAP Events
ATTACH;FMTTYPE=image/png:https://www.qualityhealth.org/wp-content/uploads/2018/12/fhcq-logo.png
END:VEVENT
BEGIN:VEVENT
DTSTART;TZID=America/Los_Angeles:20201014T080000
DTEND;TZID=America/Los_Angeles:20201014T093000
DTSTAMP:20260420T044854
CREATED:20200730T213526Z
LAST-MODIFIED:20200730T213726Z
UID:7205-1602662400-1602667800@www.qualityhealth.org
SUMMARY:COAP 2020: Annual Meeting Webinar\, Part 2: Best Practice in Cardiac Surgery and PCI
DESCRIPTION:[vc_row][vc_column][vc_column_text]For more information please contact Jeannie Collins-Brandon (jcollinsbrandon@qualityhealth.org)[/vc_column_text][/vc_column][/vc_row]
URL:https://www.qualityhealth.org/event/coap-2020-annual-meeting-webinar-part-2-best-practice-in-cardiac-surgery-and-pci/
LOCATION:See Zoom Invite
CATEGORIES:COAP Events
ATTACH;FMTTYPE=image/jpeg:https://www.qualityhealth.org/wp-content/uploads/2020/07/COAP-logo.jpg
END:VEVENT
END:VCALENDAR