BEGIN:VCALENDAR
VERSION:2.0
PRODID:-//Foundation For Health Care Quality - ECPv6.15.13//NONSGML v1.0//EN
CALSCALE:GREGORIAN
METHOD:PUBLISH
X-ORIGINAL-URL:https://www.qualityhealth.org
X-WR-CALDESC:Events for Foundation For Health Care Quality
REFRESH-INTERVAL;VALUE=DURATION:PT1H
X-Robots-Tag:noindex
X-PUBLISHED-TTL:PT1H
BEGIN:VTIMEZONE
TZID:America/Los_Angeles
BEGIN:DAYLIGHT
TZOFFSETFROM:-0800
TZOFFSETTO:-0700
TZNAME:PDT
DTSTART:20230312T100000
END:DAYLIGHT
BEGIN:STANDARD
TZOFFSETFROM:-0700
TZOFFSETTO:-0800
TZNAME:PST
DTSTART:20231105T090000
END:STANDARD
BEGIN:DAYLIGHT
TZOFFSETFROM:-0800
TZOFFSETTO:-0700
TZNAME:PDT
DTSTART:20240310T100000
END:DAYLIGHT
BEGIN:STANDARD
TZOFFSETFROM:-0700
TZOFFSETTO:-0800
TZNAME:PST
DTSTART:20241103T090000
END:STANDARD
BEGIN:DAYLIGHT
TZOFFSETFROM:-0800
TZOFFSETTO:-0700
TZNAME:PDT
DTSTART:20250309T100000
END:DAYLIGHT
BEGIN:STANDARD
TZOFFSETFROM:-0700
TZOFFSETTO:-0800
TZNAME:PST
DTSTART:20251102T090000
END:STANDARD
END:VTIMEZONE
BEGIN:VEVENT
DTSTART;TZID=America/Los_Angeles:20240605T083000
DTEND;TZID=America/Los_Angeles:20240605T170000
DTSTAMP:20260420T181227
CREATED:20240215T004211Z
LAST-MODIFIED:20240422T175213Z
UID:9663-1717576200-1717606800@www.qualityhealth.org
SUMMARY:2024 Cardiac COAP Annual Meeting
DESCRIPTION:[vc_row][vc_column][vc_column_text] \n\nCOAP Annual Meeting 2024: Partnering with a Community of Peers \nOn-site Happy Hour to follow: 4:00-5:00 pm – ALL are INVITED! \nSeattle-Tacoma International Airport Conference Center\n17801 International Blvd. (FREE parking provided) \n\n              2024 Cardiac COAP Annual Meeting Page\n            \n\n[/vc_column_text][/vc_column][/vc_row]
URL:https://www.qualityhealth.org/event/coap-annual-meeting-3/
LOCATION:The Conference Center at Seattle-Tacoma International Airport\, 17801 International Boulevard\, Seattle\, WA\, 98158\, United States
CATEGORIES:COAP Events
END:VEVENT
BEGIN:VEVENT
DTSTART;TZID=America/Los_Angeles:20240612T110000
DTEND;TZID=America/Los_Angeles:20240612T120000
DTSTAMP:20260420T181227
CREATED:20240215T004416Z
LAST-MODIFIED:20240215T004416Z
UID:9671-1718190000-1718193600@www.qualityhealth.org
SUMMARY:STS NW Regional Group Data Manager Call
DESCRIPTION:
URL:https://www.qualityhealth.org/event/sts-nw-regional-group-data-manager-call-4-2024-06-12/
CATEGORIES:COAP Events
END:VEVENT
BEGIN:VEVENT
DTSTART;TZID=America/Los_Angeles:20240710T110000
DTEND;TZID=America/Los_Angeles:20240710T120000
DTSTAMP:20260420T181227
CREATED:20240215T004416Z
LAST-MODIFIED:20240215T004416Z
UID:9672-1720609200-1720612800@www.qualityhealth.org
SUMMARY:STS NW Regional Group Data Manager Call
DESCRIPTION:
URL:https://www.qualityhealth.org/event/sts-nw-regional-group-data-manager-call-4-2024-07-10/
CATEGORIES:COAP Events
END:VEVENT
BEGIN:VEVENT
DTSTART;TZID=America/Los_Angeles:20240717T163000
DTEND;TZID=America/Los_Angeles:20240717T180000
DTSTAMP:20260420T181227
CREATED:20240215T002930Z
LAST-MODIFIED:20240215T002930Z
UID:9650-1721233800-1721239200@www.qualityhealth.org
SUMMARY:COAP Management Committee Meeting
DESCRIPTION:
URL:https://www.qualityhealth.org/event/coap-management-committee-meeting-2024-07-17/
CATEGORIES:COAP Events
END:VEVENT
BEGIN:VEVENT
DTSTART;TZID=America/Los_Angeles:20240801T110000
DTEND;TZID=America/Los_Angeles:20240801T120000
DTSTAMP:20260420T181227
CREATED:20240215T004704Z
LAST-MODIFIED:20240215T004704Z
UID:9680-1722510000-1722513600@www.qualityhealth.org
SUMMARY:PCI Regional Data Manager Support Call
DESCRIPTION:
URL:https://www.qualityhealth.org/event/pci-regional-data-manager-support-call-2024-08-01/
CATEGORIES:COAP Events
END:VEVENT
BEGIN:VEVENT
DTSTART;TZID=America/Los_Angeles:20240814T110000
DTEND;TZID=America/Los_Angeles:20240814T120000
DTSTAMP:20260420T181227
CREATED:20240215T004416Z
LAST-MODIFIED:20240215T004416Z
UID:9673-1723633200-1723636800@www.qualityhealth.org
SUMMARY:STS NW Regional Group Data Manager Call
DESCRIPTION:
URL:https://www.qualityhealth.org/event/sts-nw-regional-group-data-manager-call-4-2024-08-14/
CATEGORIES:COAP Events
END:VEVENT
BEGIN:VEVENT
DTSTART;TZID=America/Los_Angeles:20240821T163000
DTEND;TZID=America/Los_Angeles:20240821T180000
DTSTAMP:20260420T181227
CREATED:20240215T002930Z
LAST-MODIFIED:20240215T002930Z
UID:9651-1724257800-1724263200@www.qualityhealth.org
SUMMARY:COAP Management Committee Meeting
DESCRIPTION:
URL:https://www.qualityhealth.org/event/coap-management-committee-meeting-2024-08-21/
CATEGORIES:COAP Events
END:VEVENT
BEGIN:VEVENT
DTSTART;TZID=America/Los_Angeles:20240911T110000
DTEND;TZID=America/Los_Angeles:20240911T120000
DTSTAMP:20260420T181227
CREATED:20240215T004416Z
LAST-MODIFIED:20240215T004416Z
UID:9674-1726052400-1726056000@www.qualityhealth.org
SUMMARY:STS NW Regional Group Data Manager Call
DESCRIPTION:
URL:https://www.qualityhealth.org/event/sts-nw-regional-group-data-manager-call-4-2024-09-11/
CATEGORIES:COAP Events
END:VEVENT
BEGIN:VEVENT
DTSTART;TZID=America/Los_Angeles:20240918T163000
DTEND;TZID=America/Los_Angeles:20240918T180000
DTSTAMP:20260420T181227
CREATED:20240215T002930Z
LAST-MODIFIED:20240215T002930Z
UID:9652-1726677000-1726682400@www.qualityhealth.org
SUMMARY:COAP Management Committee Meeting
DESCRIPTION:
URL:https://www.qualityhealth.org/event/coap-management-committee-meeting-2024-09-18/
CATEGORIES:COAP Events
END:VEVENT
BEGIN:VEVENT
DTSTART;TZID=America/Los_Angeles:20241003T110000
DTEND;TZID=America/Los_Angeles:20241003T120000
DTSTAMP:20260420T181227
CREATED:20240215T004940Z
LAST-MODIFIED:20240215T004940Z
UID:9682-1727953200-1727956800@www.qualityhealth.org
SUMMARY:PCI Regional Data Manager Support Call
DESCRIPTION:
URL:https://www.qualityhealth.org/event/pci-regional-data-manager-support-call-2/
CATEGORIES:COAP Events
END:VEVENT
BEGIN:VEVENT
DTSTART;TZID=America/Los_Angeles:20241009T110000
DTEND;TZID=America/Los_Angeles:20241009T120000
DTSTAMP:20260420T181227
CREATED:20240215T004416Z
LAST-MODIFIED:20240215T004416Z
UID:9675-1728471600-1728475200@www.qualityhealth.org
SUMMARY:STS NW Regional Group Data Manager Call
DESCRIPTION:
URL:https://www.qualityhealth.org/event/sts-nw-regional-group-data-manager-call-4-2024-10-09/
CATEGORIES:COAP Events
END:VEVENT
BEGIN:VEVENT
DTSTART;TZID=America/Los_Angeles:20241016T160000
DTEND;TZID=America/Los_Angeles:20241016T170000
DTSTAMP:20260420T181227
CREATED:20240215T003806Z
LAST-MODIFIED:20240215T003806Z
UID:9662-1729094400-1729098000@www.qualityhealth.org
SUMMARY:COAP Regional Webinar
DESCRIPTION:
URL:https://www.qualityhealth.org/event/coap-regional-webinar-2024-10-16/
CATEGORIES:COAP Events
END:VEVENT
BEGIN:VEVENT
DTSTART;TZID=America/Los_Angeles:20241016T170000
DTEND;TZID=America/Los_Angeles:20241016T180000
DTSTAMP:20260420T181227
CREATED:20240215T002930Z
LAST-MODIFIED:20240215T003439Z
UID:9653-1729098000-1729101600@www.qualityhealth.org
SUMMARY:COAP Management Committee Meeting
DESCRIPTION:
URL:https://www.qualityhealth.org/event/coap-management-committee-meeting-2024-10-16/
CATEGORIES:COAP Events
END:VEVENT
BEGIN:VEVENT
DTSTART;TZID=America/Los_Angeles:20241113T110000
DTEND;TZID=America/Los_Angeles:20241113T120000
DTSTAMP:20260420T181227
CREATED:20240215T004416Z
LAST-MODIFIED:20240215T004416Z
UID:9676-1731495600-1731499200@www.qualityhealth.org
SUMMARY:STS NW Regional Group Data Manager Call
DESCRIPTION:
URL:https://www.qualityhealth.org/event/sts-nw-regional-group-data-manager-call-4-2024-11-13/
CATEGORIES:COAP Events
END:VEVENT
BEGIN:VEVENT
DTSTART;TZID=America/Los_Angeles:20241120T163000
DTEND;TZID=America/Los_Angeles:20241120T180000
DTSTAMP:20260420T181227
CREATED:20240215T002930Z
LAST-MODIFIED:20240215T002930Z
UID:9654-1732120200-1732125600@www.qualityhealth.org
SUMMARY:COAP Management Committee Meeting
DESCRIPTION:
URL:https://www.qualityhealth.org/event/coap-management-committee-meeting-2024-11-20/
CATEGORIES:COAP Events
END:VEVENT
BEGIN:VEVENT
DTSTART;TZID=America/Los_Angeles:20241205T110000
DTEND;TZID=America/Los_Angeles:20241205T120000
DTSTAMP:20260420T181227
CREATED:20240215T004704Z
LAST-MODIFIED:20240215T004704Z
UID:9681-1733396400-1733400000@www.qualityhealth.org
SUMMARY:PCI Regional Data Manager Support Call
DESCRIPTION:
URL:https://www.qualityhealth.org/event/pci-regional-data-manager-support-call-2024-12-05/
CATEGORIES:COAP Events
END:VEVENT
BEGIN:VEVENT
DTSTART;TZID=America/Los_Angeles:20241211T110000
DTEND;TZID=America/Los_Angeles:20241211T120000
DTSTAMP:20260420T181227
CREATED:20240215T004416Z
LAST-MODIFIED:20240215T004416Z
UID:9677-1733914800-1733918400@www.qualityhealth.org
SUMMARY:STS NW Regional Group Data Manager Call
DESCRIPTION:
URL:https://www.qualityhealth.org/event/sts-nw-regional-group-data-manager-call-4-2024-12-11/
CATEGORIES:COAP Events
END:VEVENT
BEGIN:VEVENT
DTSTART;TZID=America/Los_Angeles:20241218T163000
DTEND;TZID=America/Los_Angeles:20241218T180000
DTSTAMP:20260420T181227
CREATED:20240215T002930Z
LAST-MODIFIED:20240215T002930Z
UID:9655-1734539400-1734544800@www.qualityhealth.org
SUMMARY:COAP Management Committee Meeting
DESCRIPTION:
URL:https://www.qualityhealth.org/event/coap-management-committee-meeting-2024-12-18/
CATEGORIES:COAP Events
END:VEVENT
END:VCALENDAR