BEGIN:VCALENDAR
VERSION:2.0
PRODID:-//Foundation For Health Care Quality - ECPv6.15.13//NONSGML v1.0//EN
CALSCALE:GREGORIAN
METHOD:PUBLISH
X-WR-CALNAME:Foundation For Health Care Quality
X-ORIGINAL-URL:https://www.qualityhealth.org
X-WR-CALDESC:Events for Foundation For Health Care Quality
REFRESH-INTERVAL;VALUE=DURATION:PT1H
X-Robots-Tag:noindex
X-PUBLISHED-TTL:PT1H
BEGIN:VTIMEZONE
TZID:America/Los_Angeles
BEGIN:DAYLIGHT
TZOFFSETFROM:-0800
TZOFFSETTO:-0700
TZNAME:PDT
DTSTART:20160313T100000
END:DAYLIGHT
BEGIN:STANDARD
TZOFFSETFROM:-0700
TZOFFSETTO:-0800
TZNAME:PST
DTSTART:20161106T090000
END:STANDARD
BEGIN:DAYLIGHT
TZOFFSETFROM:-0800
TZOFFSETTO:-0700
TZNAME:PDT
DTSTART:20170312T100000
END:DAYLIGHT
BEGIN:STANDARD
TZOFFSETFROM:-0700
TZOFFSETTO:-0800
TZNAME:PST
DTSTART:20171105T090000
END:STANDARD
BEGIN:DAYLIGHT
TZOFFSETFROM:-0800
TZOFFSETTO:-0700
TZNAME:PDT
DTSTART:20180311T100000
END:DAYLIGHT
BEGIN:STANDARD
TZOFFSETFROM:-0700
TZOFFSETTO:-0800
TZNAME:PST
DTSTART:20181104T090000
END:STANDARD
BEGIN:DAYLIGHT
TZOFFSETFROM:-0800
TZOFFSETTO:-0700
TZNAME:PDT
DTSTART:20190310T100000
END:DAYLIGHT
BEGIN:STANDARD
TZOFFSETFROM:-0700
TZOFFSETTO:-0800
TZNAME:PST
DTSTART:20191103T090000
END:STANDARD
BEGIN:DAYLIGHT
TZOFFSETFROM:-0800
TZOFFSETTO:-0700
TZNAME:PDT
DTSTART:20200308T100000
END:DAYLIGHT
BEGIN:STANDARD
TZOFFSETFROM:-0700
TZOFFSETTO:-0800
TZNAME:PST
DTSTART:20201101T090000
END:STANDARD
BEGIN:DAYLIGHT
TZOFFSETFROM:-0800
TZOFFSETTO:-0700
TZNAME:PDT
DTSTART:20210314T100000
END:DAYLIGHT
BEGIN:STANDARD
TZOFFSETFROM:-0700
TZOFFSETTO:-0800
TZNAME:PST
DTSTART:20211107T090000
END:STANDARD
BEGIN:DAYLIGHT
TZOFFSETFROM:-0800
TZOFFSETTO:-0700
TZNAME:PDT
DTSTART:20220313T100000
END:DAYLIGHT
BEGIN:STANDARD
TZOFFSETFROM:-0700
TZOFFSETTO:-0800
TZNAME:PST
DTSTART:20221106T090000
END:STANDARD
BEGIN:DAYLIGHT
TZOFFSETFROM:-0800
TZOFFSETTO:-0700
TZNAME:PDT
DTSTART:20230312T100000
END:DAYLIGHT
BEGIN:STANDARD
TZOFFSETFROM:-0700
TZOFFSETTO:-0800
TZNAME:PST
DTSTART:20231105T090000
END:STANDARD
BEGIN:DAYLIGHT
TZOFFSETFROM:-0800
TZOFFSETTO:-0700
TZNAME:PDT
DTSTART:20240310T100000
END:DAYLIGHT
BEGIN:STANDARD
TZOFFSETFROM:-0700
TZOFFSETTO:-0800
TZNAME:PST
DTSTART:20241103T090000
END:STANDARD
END:VTIMEZONE
BEGIN:VEVENT
DTSTART;TZID=America/Los_Angeles:20230419T170000
DTEND;TZID=America/Los_Angeles:20230419T183000
DTSTAMP:20260422T091428
CREATED:20230301T222442Z
LAST-MODIFIED:20230301T222442Z
UID:8847-1681923600-1681929000@www.qualityhealth.org
SUMMARY:Cardiac COAP/WPSC Safe Table
DESCRIPTION:
URL:https://www.qualityhealth.org/event/cardiac-coap-wpsc-safe-table/
CATEGORIES:COAP Events,WPSC Events
END:VEVENT
BEGIN:VEVENT
DTSTART;TZID=America/Los_Angeles:20211112T120000
DTEND;TZID=America/Los_Angeles:20211112T140000
DTSTAMP:20260422T091428
CREATED:20210915T180007Z
LAST-MODIFIED:20210915T180033Z
UID:8082-1636718400-1636725600@www.qualityhealth.org
SUMMARY:Patient Safety Round Table: Creating a Culture of Wellness to Improve Safety
DESCRIPTION:[vc_row][vc_column][vc_column_text]Event: Patient Safety Round Table: Creating a Culture of Wellness to Improve Safety\nPresenter: Co-hosted with WSMA. Dr. Kevin Hopkins\, the Medical Director of Primary Care at the Cleveland Clinic and senior physician advisor at the AMA\, will facilitate a conversation about establishing well-being as an organizational value\, identifying the characteristics of a resilient organization\, and outlining strategies to take a systems-based approach to well-being.\nWho should attend: Physicians\, advanced practitioners\, and nurses who hold leadership management\, or supervisory roles; patient safety and quality professionals; and others working to address staff burnout and patient safety issues.\nRegistration & Questions: Please register at WSMA’s site by November 5th\, 2021. Or contact Steve Levy – slevy@qualityhealth.org.\nCost: There is no fee for participation.[/vc_column_text][/vc_column][/vc_row]
URL:https://www.qualityhealth.org/event/patient-safety-round-table-creating-a-culture-of-wellness-to-improve-safety/
CATEGORIES:WPSC Events
END:VEVENT
BEGIN:VEVENT
DTSTART;TZID=America/Los_Angeles:20211006T080000
DTEND;TZID=America/Los_Angeles:20211006T120000
DTSTAMP:20260422T091428
CREATED:20210219T174351Z
LAST-MODIFIED:20210219T174351Z
UID:7656-1633507200-1633521600@www.qualityhealth.org
SUMMARY:Northwest Patient Safety Conference
DESCRIPTION:
URL:https://www.qualityhealth.org/event/northwest-patient-safety-conference/
CATEGORIES:WPSC Events
END:VEVENT
BEGIN:VEVENT
DTSTART;TZID=America/Los_Angeles:20210929T120000
DTEND;TZID=America/Los_Angeles:20210929T140000
DTSTAMP:20260422T091428
CREATED:20210914T180323Z
LAST-MODIFIED:20210915T180247Z
UID:8062-1632916800-1632924000@www.qualityhealth.org
SUMMARY:WPSC Mental Health Patient Safety Round Table
DESCRIPTION:[vc_row][vc_column][vc_column_text]Event: Mental Health Patient Safety Round Table\nPresenter: Special Guest Speaker\, Daniel H. Gillison\, Jr.\, CEO\, National Alliance on Mental Illness (NAMI).\nWho Should Attend: Healthcare providers & administrators\, nurse leaders\, patient safety & quality directors; managers & directors charged with ensuring staff well-being & addressing performance-impacting issues like burnout.\nRSVP & Questions: By September 27th\, 2021. Reply to Steve Levy –  slevy@qualityhealth.org.\nCost: There is no fee for participation.\nBackground Reading: Mental Health Patient Safety Round Table[/vc_column_text][/vc_column][/vc_row]
URL:https://www.qualityhealth.org/event/wpsc-mental-health-patient-safety-round-table/
CATEGORIES:WPSC Events
END:VEVENT
BEGIN:VEVENT
DTSTART;TZID=America/Los_Angeles:20210516T160000
DTEND;TZID=America/Los_Angeles:20210516T180000
DTSTAMP:20260422T091428
CREATED:20210326T221435Z
LAST-MODIFIED:20210326T221435Z
UID:7825-1621180800-1621188000@www.qualityhealth.org
SUMMARY:This Might Hurt Film Screening
DESCRIPTION:
URL:https://www.qualityhealth.org/event/this-might-hurt-film-screening/
LOCATION:See Eventbrite
CATEGORIES:WPSC Events
END:VEVENT
BEGIN:VEVENT
DTSTART;TZID=America/Los_Angeles:20210429T120000
DTEND;TZID=America/Los_Angeles:20210429T130000
DTSTAMP:20260422T091428
CREATED:20210421T154455Z
LAST-MODIFIED:20210421T154455Z
UID:8012-1619697600-1619701200@www.qualityhealth.org
SUMMARY:Diagnostic Excellence Webinar Series Part 2
DESCRIPTION:
URL:https://www.qualityhealth.org/event/diagnostic-excellence-webinar-series-part-2/
CATEGORIES:WPSC Events
END:VEVENT
BEGIN:VEVENT
DTSTART;TZID=America/Los_Angeles:20210415T160000
DTEND;TZID=America/Los_Angeles:20210415T170000
DTSTAMP:20260422T091428
CREATED:20210326T225915Z
LAST-MODIFIED:20210326T230056Z
UID:7856-1618502400-1618506000@www.qualityhealth.org
SUMMARY:WPSC Addressing Stigma and Bias Workgroup
DESCRIPTION:
URL:https://www.qualityhealth.org/event/wpsc-addressing-stigma-and-bias-workgroup/
CATEGORIES:WPSC Events
END:VEVENT
BEGIN:VEVENT
DTSTART;TZID=America/Los_Angeles:20210412T110000
DTEND;TZID=America/Los_Angeles:20210412T120000
DTSTAMP:20260422T091428
CREATED:20210326T225824Z
LAST-MODIFIED:20210326T225824Z
UID:7846-1618225200-1618228800@www.qualityhealth.org
SUMMARY:WPSC Improving Diagnostic Process Workgroup
DESCRIPTION:
URL:https://www.qualityhealth.org/event/wpsc-improving-diagnostic-process-workgroup/
CATEGORIES:WPSC Events
END:VEVENT
BEGIN:VEVENT
DTSTART;TZID=America/Los_Angeles:20210408T130000
DTEND;TZID=America/Los_Angeles:20210408T140000
DTSTAMP:20260422T091428
CREATED:20210326T225725Z
LAST-MODIFIED:20210326T225725Z
UID:7837-1617886800-1617890400@www.qualityhealth.org
SUMMARY:WPSC Conference Planning
DESCRIPTION:
URL:https://www.qualityhealth.org/event/wpsc-conference-planning/
CATEGORIES:WPSC Events
END:VEVENT
BEGIN:VEVENT
DTSTART;TZID=America/Los_Angeles:20210402T130000
DTEND;TZID=America/Los_Angeles:20210402T140000
DTSTAMP:20260422T091428
CREATED:20210326T224556Z
LAST-MODIFIED:20210326T224556Z
UID:7827-1617368400-1617372000@www.qualityhealth.org
SUMMARY:WPSC Psychological Safety Workgroup
DESCRIPTION:
URL:https://www.qualityhealth.org/event/wpsc-psychological-safety-workgroup/
CATEGORIES:WPSC Events
END:VEVENT
BEGIN:VEVENT
DTSTART;TZID=America/Los_Angeles:20210323T110000
DTEND;TZID=America/Los_Angeles:20210323T120000
DTSTAMP:20260422T091428
CREATED:20210312T161930Z
LAST-MODIFIED:20210312T161930Z
UID:7675-1616497200-1616500800@www.qualityhealth.org
SUMMARY:Diagnostic Excellence Webinar Series Part 1
DESCRIPTION:
URL:https://www.qualityhealth.org/event/diagnostic-excellence-webinar-series-part-1/
LOCATION:See Zoom Invite
CATEGORIES:WPSC Events
END:VEVENT
BEGIN:VEVENT
DTSTART;TZID=America/Los_Angeles:20200611T120000
DTEND;TZID=America/Los_Angeles:20200611T130000
DTSTAMP:20260422T091428
CREATED:20200106T184750Z
LAST-MODIFIED:20200106T184750Z
UID:6843-1591876800-1591880400@www.qualityhealth.org
SUMMARY:WPSC Patient & Family Engagement Network Meeting
DESCRIPTION:This is the Washington Patient Safety Coalition’s Patient and Family Engagement Network Meeting \nEvery month on the Second Thursday at 12:00 PM Pacific Time \nAgenda will be sent prior to meeting. \nFor more information email Steve Levy at Slevy@qualityhealth.org
URL:https://www.qualityhealth.org/event/wpsc-patient-family-engagement-network-meeting/
LOCATION:Foundation Office
CATEGORIES:WPSC Events
ATTACH;FMTTYPE=image/jpeg:https://www.qualityhealth.org/wp-content/uploads/2019/09/FHCQ_WPSC-logo-2018.jpg
END:VEVENT
BEGIN:VEVENT
DTSTART;TZID=America/Los_Angeles:20200514T120000
DTEND;TZID=America/Los_Angeles:20200514T130000
DTSTAMP:20260422T091428
CREATED:20200106T184539Z
LAST-MODIFIED:20200106T184623Z
UID:6841-1589457600-1589461200@www.qualityhealth.org
SUMMARY:WPSC Patient & Family Engagement Network Group
DESCRIPTION:This is the Washington Patient Safety Coalition’s Patient and Family Engagement Network Meeting \nEvery month on the Second Thursday at 12:00 PM Pacific Time \nAgenda will be sent prior to meeting. \nFor more information email Steve Levy at Slevy@qualityhealth.org
URL:https://www.qualityhealth.org/event/wpsc-patient-family-engagement-network-group-4/
LOCATION:Foundation Office
CATEGORIES:WPSC Events
ATTACH;FMTTYPE=image/jpeg:https://www.qualityhealth.org/wp-content/uploads/2019/09/FHCQ_WPSC-logo-2018.jpg
END:VEVENT
BEGIN:VEVENT
DTSTART;TZID=America/Los_Angeles:20200511T070000
DTEND;TZID=America/Los_Angeles:20200511T160000
DTSTAMP:20260422T091428
CREATED:20200106T183331Z
LAST-MODIFIED:20200114T162648Z
UID:6824-1589180400-1589212800@www.qualityhealth.org
SUMMARY:18th Annual Northwest Patient Safety Conference
DESCRIPTION:The Washington Patient Safety Coalition’s Northwest Patient Safety Conference is back May 11\, 2020 at the Hilton Seattle Airport & Conference Center with a full day of sessions around the theme Driving Toward Collaboration and Safety. \nThis year’s conference will show us how collaboration and safety are cornerstones of patient care and include breakout sessions covering topics of shared decision making with patients\, process improvement in internal audits and adverse event investigation\, building trust and more\, with each talk introduced by a first-hand patient story. We are also pleased to announce a new partnership with the Washington State Healthcare Executives Forum (WSHEF) for this conference where they will be hosting a breakout session on the topic of Leading a Culture of Safety: A Blueprint for Success. \nRegistration Now Open! RSVP HERE
URL:https://www.qualityhealth.org/event/18th-annual-northwest-patient-safety-conference/
LOCATION:Hilton Seattle Airport & Conference Center\, 17620 International Blvd\, Seattle\, WA\, 98188\, United States
CATEGORIES:WPSC Events
ATTACH;FMTTYPE=image/jpeg:https://www.qualityhealth.org/wp-content/uploads/2020/01/2020-Save-the-Date-v-AGenda.jpg
END:VEVENT
BEGIN:VEVENT
DTSTART;TZID=America/Los_Angeles:20200409T120000
DTEND;TZID=America/Los_Angeles:20200409T130000
DTSTAMP:20260422T091428
CREATED:20200106T184248Z
LAST-MODIFIED:20200106T184248Z
UID:6839-1586433600-1586437200@www.qualityhealth.org
SUMMARY:WPSC Patient & Family Engagement Network Group
DESCRIPTION:This is the Washington Patient Safety Coalition’s Patient and Family Engagement Network Meeting \nEvery month on the Second Thursday at 12:00 PM Pacific Time \nAgenda will be sent prior to meeting. \nFor more information email Steve Levy at Slevy@qualityhealth.org
URL:https://www.qualityhealth.org/event/wpsc-patient-family-engagement-network-group-3/
LOCATION:Foundation Office
CATEGORIES:WPSC Events
ATTACH;FMTTYPE=image/jpeg:https://www.qualityhealth.org/wp-content/uploads/2019/09/FHCQ_WPSC-logo-2018.jpg
END:VEVENT
BEGIN:VEVENT
DTSTART;TZID=America/Los_Angeles:20200319T160000
DTEND;TZID=America/Los_Angeles:20200319T170000
DTSTAMP:20260422T091428
CREATED:20200310T194508Z
LAST-MODIFIED:20200310T194508Z
UID:7048-1584633600-1584637200@www.qualityhealth.org
SUMMARY:WPSC Addressing Stigma Bias Workgroup
DESCRIPTION:
URL:https://www.qualityhealth.org/event/wpsc-addressing-stigma-bias-workgroup/
CATEGORIES:WPSC Events
ATTACH;FMTTYPE=image/jpeg:https://www.qualityhealth.org/wp-content/uploads/2019/09/FHCQ_WPSC-logo-2018.jpg
END:VEVENT
BEGIN:VEVENT
DTSTART;TZID=America/Los_Angeles:20200312T120000
DTEND;TZID=America/Los_Angeles:20200312T130000
DTSTAMP:20260422T091428
CREATED:20200106T184120Z
LAST-MODIFIED:20200106T190127Z
UID:6837-1584014400-1584018000@www.qualityhealth.org
SUMMARY:WPSC Patient & Family Engagement Network Group
DESCRIPTION:This is the Washington Patient Safety Coalition’s Patient and Family Engagement Network Meeting \nEvery month on the Second Thursday at 12:00 PM Pacific Time \nAgenda will be sent prior to meeting. \nFor more information email Steve Levy at Slevy@qualityhealth.org
URL:https://www.qualityhealth.org/event/washington-patient-safety-coalition-patient-family-engagement-network-group/
LOCATION:Foundation Office
CATEGORIES:WPSC Events
ATTACH;FMTTYPE=image/jpeg:https://www.qualityhealth.org/wp-content/uploads/2019/09/FHCQ_WPSC-logo-2018.jpg
END:VEVENT
BEGIN:VEVENT
DTSTART;TZID=America/Los_Angeles:20200213T120000
DTEND;TZID=America/Los_Angeles:20200213T130000
DTSTAMP:20260422T091428
CREATED:20200106T183940Z
LAST-MODIFIED:20200106T183951Z
UID:6835-1581595200-1581598800@www.qualityhealth.org
SUMMARY:WPSC Patient & Family Engagement Network Group
DESCRIPTION:This is the Washington Patient Safety Coalition’s Patient and Family Engagement Network Meeting \nEvery month on the Second Thursday at 12:00 PM Pacific Time \nAgenda will be sent prior to meeting. \nFor more information email Steve Levy at Slevy@qualityhealth.org
URL:https://www.qualityhealth.org/event/wpsc-patient-family-engagement-network-group-2/
LOCATION:Foundation Office
CATEGORIES:WPSC Events
ATTACH;FMTTYPE=image/jpeg:https://www.qualityhealth.org/wp-content/uploads/2019/09/FHCQ_WPSC-logo-2018.jpg
END:VEVENT
BEGIN:VEVENT
DTSTART;TZID=America/Los_Angeles:20200117T083000
DTEND;TZID=America/Los_Angeles:20200117T100000
DTSTAMP:20260422T091428
CREATED:20200106T183456Z
LAST-MODIFIED:20200310T195015Z
UID:6830-1579249800-1579255200@www.qualityhealth.org
SUMMARY:WPSC Steering Committee Meeting
DESCRIPTION:
URL:https://www.qualityhealth.org/event/wpsc-steering-committee-meeting-2/
LOCATION:Foundation Office
CATEGORIES:WPSC Events
ATTACH;FMTTYPE=image/jpeg:https://www.qualityhealth.org/wp-content/uploads/2019/09/FHCQ_WPSC-logo-2018.jpg
END:VEVENT
BEGIN:VEVENT
DTSTART;TZID=America/Los_Angeles:20200109T120000
DTEND;TZID=America/Los_Angeles:20200109T130000
DTSTAMP:20260422T091428
CREATED:20200106T183845Z
LAST-MODIFIED:20200106T183845Z
UID:6832-1578571200-1578574800@www.qualityhealth.org
SUMMARY:WPSC Patient & Family Engagement Network Group
DESCRIPTION:This is the Washington Patient Safety Coalition’s Patient and Family Engagement Network Meeting \nEvery month on the Second Thursday at 12:00 PM Pacific Time \nAgenda will be sent prior to meeting. \nFor more information email Steve Levy at Slevy@qualityhealth.org
URL:https://www.qualityhealth.org/event/wpsc-patient-family-engagement-network-group/
LOCATION:Foundation Office
CATEGORIES:WPSC Events
END:VEVENT
BEGIN:VEVENT
DTSTART;TZID=America/Los_Angeles:20191114T120000
DTEND;TZID=America/Los_Angeles:20191114T130000
DTSTAMP:20260422T091428
CREATED:20191108T214600Z
LAST-MODIFIED:20191108T214704Z
UID:6782-1573732800-1573736400@www.qualityhealth.org
SUMMARY:Elevating Shared Decision Making to Uphold Health Equity Webinar
DESCRIPTION:November 14th | Shared Decision Making 103: Elevating Shared Decision Making to Uphold Health Equity \nWhether your organization has adopted or is in the process of adopting Shared Decision Making techniques\, there are important elements to consider to ensure that your adoption of these practices is empowering to patients of all backgrounds. This webinar will cover methods of elevating your organizational and individual SDM practices through a lens of health literacy\, equity\, and cultural competency by understanding and addressing language barriers\, cognitive biases\, and known disparities that can affect a patient’s comprehension and awareness of their treatment options\, hinder their involvement and empowerment in their own care\, and decrease the positivity of their care experiences and outcomes. This webinar is appropriate for providers of all types (physicians\, nurses\, clinicians\, specialists)\, health system leadership\, patient safety and quality professionals\, policy makers\, and anyone concerned with increasing use of Shared Decision Making practices in healthcare.\n \nSpeaker: Rashmi Sharma
URL:https://www.qualityhealth.org/event/elevating-shared-decision-making-to-uphold-health-equity-webinar/
LOCATION:See Eventbrite
CATEGORIES:WPSC Events
ATTACH;FMTTYPE=image/png:https://www.qualityhealth.org/wp-content/uploads/2019/09/Transcending-the-Checklist-Promo-Image.png
END:VEVENT
BEGIN:VEVENT
DTSTART;TZID=America/Los_Angeles:20191114T120000
DTEND;TZID=America/Los_Angeles:20191114T130000
DTSTAMP:20260422T091428
CREATED:20191108T214419Z
LAST-MODIFIED:20191108T214419Z
UID:6779-1573732800-1573736400@www.qualityhealth.org
SUMMARY:Patient Family Engagement Leadership Affinity Group
DESCRIPTION:What is the Patient and Family Engagement Leadership Affinity Group: \nA collaborative network made up of healthcare patient and family engagement professionals leading PFE activities. \nPurpose: \n\nProvide a forum for PFE professionals to engage and collaborate\nFacilitate shared learning\nDisseminate PFE best practices\n\nContact Steve Levy (slevy@qualityhealth.org) or Kinsey Gray (kgray@qualityhealth.org) to find out more
URL:https://www.qualityhealth.org/event/patient-family-engagement-leadership-affinity-group/
LOCATION:See Zoom Invite
CATEGORIES:WPSC Events
ATTACH;FMTTYPE=image/jpeg:https://www.qualityhealth.org/wp-content/uploads/2019/09/FHCQ_WPSC-logo-2018.jpg
END:VEVENT
BEGIN:VEVENT
DTSTART;TZID=America/Los_Angeles:20191030T120000
DTEND;TZID=America/Los_Angeles:20191030T130000
DTSTAMP:20260422T091428
CREATED:20190913T220429Z
LAST-MODIFIED:20190913T220429Z
UID:6661-1572436800-1572440400@www.qualityhealth.org
SUMMARY:Transcending the Checklist: Understanding Adopting and Evaluating Shared Decision Making
DESCRIPTION:Now that you have gained a better understanding of how to define Shared Decision Making and its benefits in concept\, it’s time to explore how to go about getting boots on the ground and putting these techniques into practice. This webinar will cover best practices and firsthand advice for adopting SDM\, “transcending the checklist” to more fully integrate SDM into practice as a care philosophy\, and real world examples of its adoption in various specialties\, and means of overcoming barriers\, using the findings of the Bree Collaborative’s Shared Decision Making workgroup and others. This webinar is appropriate for providers of all types (physicians\, nurses\, clinicians\, specialists)\, health system leadership\, patient safety and quality professionals\, policy makers\, and anyone concerned with increasing use of Shared Decision Making practices in healthcare. More details to come. \nSpeaker: Angela Sparks\, MD\, FAAFP
URL:https://www.qualityhealth.org/event/transcending-the-checklist-understanding-adopting-and-evaluating-shared-decision-making-2/
LOCATION:See Eventbrite
CATEGORIES:WPSC Events
ATTACH;FMTTYPE=image/png:https://www.qualityhealth.org/wp-content/uploads/2019/09/Transcending-the-Checklist-Promo-Image.png
END:VEVENT
BEGIN:VEVENT
DTSTART;TZID=America/Los_Angeles:20191024T120000
DTEND;TZID=America/Los_Angeles:20191024T130000
DTSTAMP:20260422T091428
CREATED:20190913T220856Z
LAST-MODIFIED:20190913T220856Z
UID:6663-1571918400-1571922000@www.qualityhealth.org
SUMMARY:Patient and Family Engagement Affinity Group
DESCRIPTION:The WPSC is committed to including patients and families in improving healthcare and supporting organizations who lead Patient and Family Engagement activities. The WPSC is forming a collaborative networking “PFE Affinity Group” for healthcare patient and family engagement professionals leading PFE activities in any healthcare setting. The group’s charter can be found here. \nThe WPSC will convene patient and family experience/engagement directors\, managers and staff on a regular basis through meetings\, conference calls and electronic means. \nThe PFE Affinity Group will: \n\nProvide a forum for PFE professionals to engage and collaborate\nFacilitate shared learning\nDisseminate PFE best practices\n\nThe initial meeting will take place October 24th from noon – 1 by video conference call. If you or someone at your organization is interested in being part of this group please let us know by contacting Steve Levy (slevy@qualityhealth.org) or Kinsey Gray (kgray@qualityhealth.org)
URL:https://www.qualityhealth.org/event/patient-and-family-engagement-affinity-group/
CATEGORIES:WPSC Events
ATTACH;FMTTYPE=image/jpeg:https://www.qualityhealth.org/wp-content/uploads/2019/09/FHCQ_WPSC-logo-2018.jpg
END:VEVENT
BEGIN:VEVENT
DTSTART;TZID=America/Los_Angeles:20190925T120000
DTEND;TZID=America/Los_Angeles:20190925T130000
DTSTAMP:20260422T091428
CREATED:20190913T215704Z
LAST-MODIFIED:20190913T220129Z
UID:6656-1569412800-1569416400@www.qualityhealth.org
SUMMARY:Transcending the Checklist: Understanding Adopting and Evaluating Shared Decision Making
DESCRIPTION:Shared decision making is a key component of patient-centered care but can be misunderstood or rushed-through. What exactly is shared decision making\, why is this so important to improving patient’s experiences and involvement in their care\, and how can providers use shared decision making in clinical care? This webinar will feature an overview of the Bree Collaborative’s recommendations for Shared Decision Making as developed by a workgroup of subject matter experts. The speakers will discuss when shared decision making is appropriate\, benefits to patients and to providers\, and how to champion shared decision making within your own organization. This webinar is appropriate for providers of all types (physicians\, nurses\, clinicians\, specialists)\, health system leadership\, patient safety and quality professionals\, policy makers\, and anyone concerned with increasing use of shared decision making. \nSpeakers: Ginny Weir and Emily Transue \n  \n 
URL:https://www.qualityhealth.org/event/transcending-the-checklist-understanding-adopting-and-evaluating-shared-decision-making/
LOCATION:See Eventbrite
CATEGORIES:WPSC Events
ATTACH;FMTTYPE=image/png:https://www.qualityhealth.org/wp-content/uploads/2019/09/Transcending-the-Checklist-Promo-Image.png
END:VEVENT
BEGIN:VEVENT
DTSTART;TZID=America/Los_Angeles:20190920T083000
DTEND;TZID=America/Los_Angeles:20190920T103000
DTSTAMP:20260422T091428
CREATED:20190913T215440Z
LAST-MODIFIED:20190913T215440Z
UID:6653-1568968200-1568975400@www.qualityhealth.org
SUMMARY:WPSC Steering Committee Meeting
DESCRIPTION:
URL:https://www.qualityhealth.org/event/wpsc-steering-committee-meeting/
LOCATION:Foundation Office
CATEGORIES:WPSC Events
ATTACH;FMTTYPE=image/jpeg:https://www.qualityhealth.org/wp-content/uploads/2019/09/FHCQ_WPSC-logo-2018.jpg
END:VEVENT
BEGIN:VEVENT
DTSTART;TZID=America/Los_Angeles:20190809T223000
DTEND;TZID=America/Los_Angeles:20190810T000000
DTSTAMP:20260422T091428
CREATED:20190810T053847Z
LAST-MODIFIED:20190810T053847Z
UID:6621-1565389800-1565395200@www.qualityhealth.org
SUMMARY:Here's a new event
DESCRIPTION:This is a really good one\, don’t miss it.
URL:https://www.qualityhealth.org/event/heres-a-new-event/
LOCATION:Foundation Office
CATEGORIES:COAP Events,OBCOAP Events,WPSC Events
ATTACH;FMTTYPE=image/jpeg:https://www.qualityhealth.org/wp-content/uploads/2019/08/header_1152709238.jpg
END:VEVENT
BEGIN:VEVENT
DTSTART;TZID=America/Los_Angeles:20180119T003000
DTEND;TZID=America/Los_Angeles:20180119T033000
DTSTAMP:20260422T091428
CREATED:20190806T035912Z
LAST-MODIFIED:20190806T035912Z
UID:6538-1516321800-1516332600@www.qualityhealth.org
SUMMARY:2018 WPSC Strategic Planning Session
DESCRIPTION:WPSC Steering Committee and Advisory Group members: \nIt’s time to revisit the current work of the WPSC\, and set direction for the year ahead. Join us January 19th\, 2018 for our Strategic Planning session. The event’s activities will include:\n• Guided conversation on current WPSC work and achievements against 2015 goal areas.\n• Discussion of themes from our pre-event feedback survey (Your feedback on this survey will drive the agenda\, so please remember to fill it out by 1/5/18).\n• Guided discussion of new priority areas for the WPSC’s 2018 action plan. \nA light breakfast will be included. Your RSVP via the Outlook invite is requested. All accompanying materials including full agenda & location/parking details will be sent 1 week prior to the event. Please let me know if you have any questions.
URL:https://www.qualityhealth.org/event/2018-wpsc-strategic-planning-session/
CATEGORIES:WPSC Events
END:VEVENT
BEGIN:VEVENT
DTSTART;TZID=America/Los_Angeles:20170921T050000
DTEND;TZID=America/Los_Angeles:20170921T060000
DTSTAMP:20260422T091428
CREATED:20190807T011431Z
LAST-MODIFIED:20190807T011431Z
UID:6564-1505970000-1505973600@www.qualityhealth.org
SUMMARY:WPSC Bias & Inequities Webinar Series: Reducing Disparities in Diabetes Care: From Data to Doing.
DESCRIPTION:September 21st |  Reducing Disparities in Diabetes Care: From Data to Doing. Join us for a lunchtime webinar with Lisa Packard of Qualis Health. It’s no secret that for those in historically underserved populations\, daily management of health conditions poses unique challenges. In this webinar\, we will look at these challenges through the lens of health equity and social determinants of health with a focus on diabetes\, a hugely prevalent disease that is widely known to disproportionately affect underserved populations. Presenter Lisa Packard\, who has spent years focused on health inequities and diabetes\, will share how diabetes patients can take charge of their health through community-based workshops teaching positive self-management techniques. She will also go over how healthcare professionals can help support these individuals\, foster the linkages between communities and clinics/health systems\, and find or implement these kinds of trainings – particularly the evidence-backed Diabetes Self-Management Program (DSMP) workshops. Lisa will also review the evidence behind the Diabetes Prevention Program (DPP) and quality improvement opportunities that can be identified using Medicare claims data. This webinar is appropriate for front-line clinicians\, patient safety and quality improvement professionals\, and anyone involved or interested in making strides in health disparities and/or diabetes work. \n 
URL:https://www.qualityhealth.org/event/wpsc-bias-inequities-webinar-series-reducing-disparities-in-diabetes-care-from-data-to-doing/
CATEGORIES:WPSC Events
END:VEVENT
BEGIN:VEVENT
DTSTART;TZID=America/Los_Angeles:20170104T233000
DTEND;TZID=America/Los_Angeles:20170105T083000
DTSTAMP:20260422T091428
CREATED:20190807T021337Z
LAST-MODIFIED:20190807T053821Z
UID:6575-1483572600-1483605000@www.qualityhealth.org
SUMMARY:2017 Washington State of Reform Health Policy Conference
DESCRIPTION:
URL:https://www.qualityhealth.org/event/2017-washington-state-of-reform-health-policy-conference/
CATEGORIES:WPSC Events
END:VEVENT
END:VCALENDAR