BEGIN:VCALENDAR
VERSION:2.0
PRODID:-//Foundation For Health Care Quality - ECPv6.15.13//NONSGML v1.0//EN
CALSCALE:GREGORIAN
METHOD:PUBLISH
X-WR-CALNAME:Foundation For Health Care Quality
X-ORIGINAL-URL:https://www.qualityhealth.org
X-WR-CALDESC:Events for Foundation For Health Care Quality
REFRESH-INTERVAL;VALUE=DURATION:PT1H
X-Robots-Tag:noindex
X-PUBLISHED-TTL:PT1H
BEGIN:VTIMEZONE
TZID:America/Los_Angeles
BEGIN:DAYLIGHT
TZOFFSETFROM:-0800
TZOFFSETTO:-0700
TZNAME:PDT
DTSTART:20150308T100000
END:DAYLIGHT
BEGIN:STANDARD
TZOFFSETFROM:-0700
TZOFFSETTO:-0800
TZNAME:PST
DTSTART:20151101T090000
END:STANDARD
BEGIN:DAYLIGHT
TZOFFSETFROM:-0800
TZOFFSETTO:-0700
TZNAME:PDT
DTSTART:20160313T100000
END:DAYLIGHT
BEGIN:STANDARD
TZOFFSETFROM:-0700
TZOFFSETTO:-0800
TZNAME:PST
DTSTART:20161106T090000
END:STANDARD
BEGIN:DAYLIGHT
TZOFFSETFROM:-0800
TZOFFSETTO:-0700
TZNAME:PDT
DTSTART:20170312T100000
END:DAYLIGHT
BEGIN:STANDARD
TZOFFSETFROM:-0700
TZOFFSETTO:-0800
TZNAME:PST
DTSTART:20171105T090000
END:STANDARD
BEGIN:DAYLIGHT
TZOFFSETFROM:-0800
TZOFFSETTO:-0700
TZNAME:PDT
DTSTART:20180311T100000
END:DAYLIGHT
BEGIN:STANDARD
TZOFFSETFROM:-0700
TZOFFSETTO:-0800
TZNAME:PST
DTSTART:20181104T090000
END:STANDARD
BEGIN:DAYLIGHT
TZOFFSETFROM:-0800
TZOFFSETTO:-0700
TZNAME:PDT
DTSTART:20190310T100000
END:DAYLIGHT
BEGIN:STANDARD
TZOFFSETFROM:-0700
TZOFFSETTO:-0800
TZNAME:PST
DTSTART:20191103T090000
END:STANDARD
BEGIN:DAYLIGHT
TZOFFSETFROM:-0800
TZOFFSETTO:-0700
TZNAME:PDT
DTSTART:20200308T100000
END:DAYLIGHT
BEGIN:STANDARD
TZOFFSETFROM:-0700
TZOFFSETTO:-0800
TZNAME:PST
DTSTART:20201101T090000
END:STANDARD
END:VTIMEZONE
BEGIN:VEVENT
DTSTART;TZID=America/Los_Angeles:20191114T120000
DTEND;TZID=America/Los_Angeles:20191114T130000
DTSTAMP:20260422T124045
CREATED:20191108T214600Z
LAST-MODIFIED:20191108T214704Z
UID:6782-1573732800-1573736400@www.qualityhealth.org
SUMMARY:Elevating Shared Decision Making to Uphold Health Equity Webinar
DESCRIPTION:November 14th | Shared Decision Making 103: Elevating Shared Decision Making to Uphold Health Equity \nWhether your organization has adopted or is in the process of adopting Shared Decision Making techniques\, there are important elements to consider to ensure that your adoption of these practices is empowering to patients of all backgrounds. This webinar will cover methods of elevating your organizational and individual SDM practices through a lens of health literacy\, equity\, and cultural competency by understanding and addressing language barriers\, cognitive biases\, and known disparities that can affect a patient’s comprehension and awareness of their treatment options\, hinder their involvement and empowerment in their own care\, and decrease the positivity of their care experiences and outcomes. This webinar is appropriate for providers of all types (physicians\, nurses\, clinicians\, specialists)\, health system leadership\, patient safety and quality professionals\, policy makers\, and anyone concerned with increasing use of Shared Decision Making practices in healthcare.\n \nSpeaker: Rashmi Sharma
URL:https://www.qualityhealth.org/event/elevating-shared-decision-making-to-uphold-health-equity-webinar/
LOCATION:See Eventbrite
CATEGORIES:WPSC Events
ATTACH;FMTTYPE=image/png:https://www.qualityhealth.org/wp-content/uploads/2019/09/Transcending-the-Checklist-Promo-Image.png
END:VEVENT
BEGIN:VEVENT
DTSTART;TZID=America/Los_Angeles:20191114T120000
DTEND;TZID=America/Los_Angeles:20191114T130000
DTSTAMP:20260422T124045
CREATED:20191108T214419Z
LAST-MODIFIED:20191108T214419Z
UID:6779-1573732800-1573736400@www.qualityhealth.org
SUMMARY:Patient Family Engagement Leadership Affinity Group
DESCRIPTION:What is the Patient and Family Engagement Leadership Affinity Group: \nA collaborative network made up of healthcare patient and family engagement professionals leading PFE activities. \nPurpose: \n\nProvide a forum for PFE professionals to engage and collaborate\nFacilitate shared learning\nDisseminate PFE best practices\n\nContact Steve Levy (slevy@qualityhealth.org) or Kinsey Gray (kgray@qualityhealth.org) to find out more
URL:https://www.qualityhealth.org/event/patient-family-engagement-leadership-affinity-group/
LOCATION:See Zoom Invite
CATEGORIES:WPSC Events
ATTACH;FMTTYPE=image/jpeg:https://www.qualityhealth.org/wp-content/uploads/2019/09/FHCQ_WPSC-logo-2018.jpg
END:VEVENT
BEGIN:VEVENT
DTSTART;TZID=America/Los_Angeles:20191030T120000
DTEND;TZID=America/Los_Angeles:20191030T130000
DTSTAMP:20260422T124045
CREATED:20190913T220429Z
LAST-MODIFIED:20190913T220429Z
UID:6661-1572436800-1572440400@www.qualityhealth.org
SUMMARY:Transcending the Checklist: Understanding Adopting and Evaluating Shared Decision Making
DESCRIPTION:Now that you have gained a better understanding of how to define Shared Decision Making and its benefits in concept\, it’s time to explore how to go about getting boots on the ground and putting these techniques into practice. This webinar will cover best practices and firsthand advice for adopting SDM\, “transcending the checklist” to more fully integrate SDM into practice as a care philosophy\, and real world examples of its adoption in various specialties\, and means of overcoming barriers\, using the findings of the Bree Collaborative’s Shared Decision Making workgroup and others. This webinar is appropriate for providers of all types (physicians\, nurses\, clinicians\, specialists)\, health system leadership\, patient safety and quality professionals\, policy makers\, and anyone concerned with increasing use of Shared Decision Making practices in healthcare. More details to come. \nSpeaker: Angela Sparks\, MD\, FAAFP
URL:https://www.qualityhealth.org/event/transcending-the-checklist-understanding-adopting-and-evaluating-shared-decision-making-2/
LOCATION:See Eventbrite
CATEGORIES:WPSC Events
ATTACH;FMTTYPE=image/png:https://www.qualityhealth.org/wp-content/uploads/2019/09/Transcending-the-Checklist-Promo-Image.png
END:VEVENT
BEGIN:VEVENT
DTSTART;TZID=America/Los_Angeles:20191024T120000
DTEND;TZID=America/Los_Angeles:20191024T130000
DTSTAMP:20260422T124045
CREATED:20190913T220856Z
LAST-MODIFIED:20190913T220856Z
UID:6663-1571918400-1571922000@www.qualityhealth.org
SUMMARY:Patient and Family Engagement Affinity Group
DESCRIPTION:The WPSC is committed to including patients and families in improving healthcare and supporting organizations who lead Patient and Family Engagement activities. The WPSC is forming a collaborative networking “PFE Affinity Group” for healthcare patient and family engagement professionals leading PFE activities in any healthcare setting. The group’s charter can be found here. \nThe WPSC will convene patient and family experience/engagement directors\, managers and staff on a regular basis through meetings\, conference calls and electronic means. \nThe PFE Affinity Group will: \n\nProvide a forum for PFE professionals to engage and collaborate\nFacilitate shared learning\nDisseminate PFE best practices\n\nThe initial meeting will take place October 24th from noon – 1 by video conference call. If you or someone at your organization is interested in being part of this group please let us know by contacting Steve Levy (slevy@qualityhealth.org) or Kinsey Gray (kgray@qualityhealth.org)
URL:https://www.qualityhealth.org/event/patient-and-family-engagement-affinity-group/
CATEGORIES:WPSC Events
ATTACH;FMTTYPE=image/jpeg:https://www.qualityhealth.org/wp-content/uploads/2019/09/FHCQ_WPSC-logo-2018.jpg
END:VEVENT
BEGIN:VEVENT
DTSTART;TZID=America/Los_Angeles:20190925T120000
DTEND;TZID=America/Los_Angeles:20190925T130000
DTSTAMP:20260422T124045
CREATED:20190913T215704Z
LAST-MODIFIED:20190913T220129Z
UID:6656-1569412800-1569416400@www.qualityhealth.org
SUMMARY:Transcending the Checklist: Understanding Adopting and Evaluating Shared Decision Making
DESCRIPTION:Shared decision making is a key component of patient-centered care but can be misunderstood or rushed-through. What exactly is shared decision making\, why is this so important to improving patient’s experiences and involvement in their care\, and how can providers use shared decision making in clinical care? This webinar will feature an overview of the Bree Collaborative’s recommendations for Shared Decision Making as developed by a workgroup of subject matter experts. The speakers will discuss when shared decision making is appropriate\, benefits to patients and to providers\, and how to champion shared decision making within your own organization. This webinar is appropriate for providers of all types (physicians\, nurses\, clinicians\, specialists)\, health system leadership\, patient safety and quality professionals\, policy makers\, and anyone concerned with increasing use of shared decision making. \nSpeakers: Ginny Weir and Emily Transue \n  \n 
URL:https://www.qualityhealth.org/event/transcending-the-checklist-understanding-adopting-and-evaluating-shared-decision-making/
LOCATION:See Eventbrite
CATEGORIES:WPSC Events
ATTACH;FMTTYPE=image/png:https://www.qualityhealth.org/wp-content/uploads/2019/09/Transcending-the-Checklist-Promo-Image.png
END:VEVENT
BEGIN:VEVENT
DTSTART;TZID=America/Los_Angeles:20190920T083000
DTEND;TZID=America/Los_Angeles:20190920T103000
DTSTAMP:20260422T124045
CREATED:20190913T215440Z
LAST-MODIFIED:20190913T215440Z
UID:6653-1568968200-1568975400@www.qualityhealth.org
SUMMARY:WPSC Steering Committee Meeting
DESCRIPTION:
URL:https://www.qualityhealth.org/event/wpsc-steering-committee-meeting/
LOCATION:Foundation Office
CATEGORIES:WPSC Events
ATTACH;FMTTYPE=image/jpeg:https://www.qualityhealth.org/wp-content/uploads/2019/09/FHCQ_WPSC-logo-2018.jpg
END:VEVENT
BEGIN:VEVENT
DTSTART;TZID=America/Los_Angeles:20190809T223000
DTEND;TZID=America/Los_Angeles:20190810T000000
DTSTAMP:20260422T124045
CREATED:20190810T053847Z
LAST-MODIFIED:20190810T053847Z
UID:6621-1565389800-1565395200@www.qualityhealth.org
SUMMARY:Here's a new event
DESCRIPTION:This is a really good one\, don’t miss it.
URL:https://www.qualityhealth.org/event/heres-a-new-event/
LOCATION:Foundation Office
CATEGORIES:COAP Events,OBCOAP Events,WPSC Events
ATTACH;FMTTYPE=image/jpeg:https://www.qualityhealth.org/wp-content/uploads/2019/08/header_1152709238.jpg
END:VEVENT
BEGIN:VEVENT
DTSTART;TZID=America/Los_Angeles:20180119T003000
DTEND;TZID=America/Los_Angeles:20180119T033000
DTSTAMP:20260422T124045
CREATED:20190806T035912Z
LAST-MODIFIED:20190806T035912Z
UID:6538-1516321800-1516332600@www.qualityhealth.org
SUMMARY:2018 WPSC Strategic Planning Session
DESCRIPTION:WPSC Steering Committee and Advisory Group members: \nIt’s time to revisit the current work of the WPSC\, and set direction for the year ahead. Join us January 19th\, 2018 for our Strategic Planning session. The event’s activities will include:\n• Guided conversation on current WPSC work and achievements against 2015 goal areas.\n• Discussion of themes from our pre-event feedback survey (Your feedback on this survey will drive the agenda\, so please remember to fill it out by 1/5/18).\n• Guided discussion of new priority areas for the WPSC’s 2018 action plan. \nA light breakfast will be included. Your RSVP via the Outlook invite is requested. All accompanying materials including full agenda & location/parking details will be sent 1 week prior to the event. Please let me know if you have any questions.
URL:https://www.qualityhealth.org/event/2018-wpsc-strategic-planning-session/
CATEGORIES:WPSC Events
END:VEVENT
BEGIN:VEVENT
DTSTART;TZID=America/Los_Angeles:20170921T050000
DTEND;TZID=America/Los_Angeles:20170921T060000
DTSTAMP:20260422T124045
CREATED:20190807T011431Z
LAST-MODIFIED:20190807T011431Z
UID:6564-1505970000-1505973600@www.qualityhealth.org
SUMMARY:WPSC Bias & Inequities Webinar Series: Reducing Disparities in Diabetes Care: From Data to Doing.
DESCRIPTION:September 21st |  Reducing Disparities in Diabetes Care: From Data to Doing. Join us for a lunchtime webinar with Lisa Packard of Qualis Health. It’s no secret that for those in historically underserved populations\, daily management of health conditions poses unique challenges. In this webinar\, we will look at these challenges through the lens of health equity and social determinants of health with a focus on diabetes\, a hugely prevalent disease that is widely known to disproportionately affect underserved populations. Presenter Lisa Packard\, who has spent years focused on health inequities and diabetes\, will share how diabetes patients can take charge of their health through community-based workshops teaching positive self-management techniques. She will also go over how healthcare professionals can help support these individuals\, foster the linkages between communities and clinics/health systems\, and find or implement these kinds of trainings – particularly the evidence-backed Diabetes Self-Management Program (DSMP) workshops. Lisa will also review the evidence behind the Diabetes Prevention Program (DPP) and quality improvement opportunities that can be identified using Medicare claims data. This webinar is appropriate for front-line clinicians\, patient safety and quality improvement professionals\, and anyone involved or interested in making strides in health disparities and/or diabetes work. \n 
URL:https://www.qualityhealth.org/event/wpsc-bias-inequities-webinar-series-reducing-disparities-in-diabetes-care-from-data-to-doing/
CATEGORIES:WPSC Events
END:VEVENT
BEGIN:VEVENT
DTSTART;TZID=America/Los_Angeles:20170104T233000
DTEND;TZID=America/Los_Angeles:20170105T083000
DTSTAMP:20260422T124045
CREATED:20190807T021337Z
LAST-MODIFIED:20190807T053821Z
UID:6575-1483572600-1483605000@www.qualityhealth.org
SUMMARY:2017 Washington State of Reform Health Policy Conference
DESCRIPTION:
URL:https://www.qualityhealth.org/event/2017-washington-state-of-reform-health-policy-conference/
CATEGORIES:WPSC Events
END:VEVENT
BEGIN:VEVENT
DTSTART;TZID=America/Los_Angeles:20161209T080000
DTEND;TZID=America/Los_Angeles:20161209T100000
DTSTAMP:20260422T124045
CREATED:20190807T020742Z
LAST-MODIFIED:20190807T053830Z
UID:6568-1481270400-1481277600@www.qualityhealth.org
SUMMARY:Nursing Residency & New to Specialty Meetup
DESCRIPTION:
URL:https://www.qualityhealth.org/event/nursing-residency-new-to-specialty-meetup/
CATEGORIES:WPSC Events
END:VEVENT
BEGIN:VEVENT
DTSTART;TZID=America/Los_Angeles:20161208T090000
DTEND;TZID=America/Los_Angeles:20161208T110000
DTSTAMP:20260422T124045
CREATED:20190807T020952Z
LAST-MODIFIED:20190807T053900Z
UID:6570-1481187600-1481194800@www.qualityhealth.org
SUMMARY:L&D/Women's Services Nursing Meetup
DESCRIPTION:
URL:https://www.qualityhealth.org/event/ld-womens-services-nursing-meetup/
CATEGORIES:WPSC Events
END:VEVENT
BEGIN:VEVENT
DTSTART;TZID=America/Los_Angeles:20161208T060000
DTEND;TZID=America/Los_Angeles:20161208T073000
DTSTAMP:20260422T124045
CREATED:20190807T054209Z
LAST-MODIFIED:20190807T054209Z
UID:6584-1481176800-1481182200@www.qualityhealth.org
SUMMARY:Fall Healthcare Career Fair
DESCRIPTION:
URL:https://www.qualityhealth.org/event/fall-healthcare-career-fair/
CATEGORIES:WPSC Events
END:VEVENT
BEGIN:VEVENT
DTSTART;TZID=America/Los_Angeles:20161208T000000
DTEND;TZID=America/Los_Angeles:20161208T010000
DTSTAMP:20260422T124045
CREATED:20190807T012315Z
LAST-MODIFIED:20190807T053914Z
UID:6566-1481155200-1481158800@www.qualityhealth.org
SUMMARY:The Science of Mindfulness: A Path to Well-Being for Healthcare Providers
DESCRIPTION:
URL:https://www.qualityhealth.org/event/the-science-of-mindfulness-a-path-to-well-being-for-healthcare-providers/
CATEGORIES:WPSC Events
END:VEVENT
BEGIN:VEVENT
DTSTART;TZID=America/Los_Angeles:20161207T003000
DTEND;TZID=America/Los_Angeles:20161207T033000
DTSTAMP:20260422T124045
CREATED:20190807T021531Z
LAST-MODIFIED:20190807T053928Z
UID:6577-1481070600-1481081400@www.qualityhealth.org
SUMMARY:Let’s Go Legal: Getting on the right road to compliance and protection by 501 Commons
DESCRIPTION:
URL:https://www.qualityhealth.org/event/lets-go-legal-getting-on-the-right-road-to-compliance-and-protection-by-501-commons/
CATEGORIES:WPSC Events
END:VEVENT
BEGIN:VEVENT
DTSTART;TZID=America/Los_Angeles:20161206T003000
DTEND;TZID=America/Los_Angeles:20161206T073000
DTSTAMP:20260422T124045
CREATED:20190807T022233Z
LAST-MODIFIED:20190807T022233Z
UID:6582-1480984200-1481009400@www.qualityhealth.org
SUMMARY:How to Navigate Amidst Overwhelming Times - Phase Two
DESCRIPTION:
URL:https://www.qualityhealth.org/event/how-to-navigate-amidst-overwhelming-times-phase-two/
CATEGORIES:WPSC Events
END:VEVENT
BEGIN:VEVENT
DTSTART;TZID=America/Los_Angeles:20161206T003000
DTEND;TZID=America/Los_Angeles:20161206T050000
DTSTAMP:20260422T124045
CREATED:20190807T021756Z
LAST-MODIFIED:20190807T053945Z
UID:6580-1480984200-1481000400@www.qualityhealth.org
SUMMARY:What Works by Washington Business Alliance
DESCRIPTION:
URL:https://www.qualityhealth.org/event/what-works-by-washington-business-alliance/
CATEGORIES:WPSC Events
END:VEVENT
BEGIN:VEVENT
DTSTART;TZID=America/Los_Angeles:20161205T003000
DTEND;TZID=America/Los_Angeles:20161205T073000
DTSTAMP:20260422T124045
CREATED:20190807T054743Z
LAST-MODIFIED:20190807T054743Z
UID:6589-1480897800-1480923000@www.qualityhealth.org
SUMMARY:How to Navigate Amidst Overwhelming Times - Phase One
DESCRIPTION:
URL:https://www.qualityhealth.org/event/how-to-navigate-amidst-overwhelming-times-phase-one/
CATEGORIES:WPSC Events
END:VEVENT
BEGIN:VEVENT
DTSTART;TZID=America/Los_Angeles:20161202T080000
DTEND;TZID=America/Los_Angeles:20161202T100000
DTSTAMP:20260422T124045
CREATED:20190807T021125Z
LAST-MODIFIED:20190807T053955Z
UID:6572-1480665600-1480672800@www.qualityhealth.org
SUMMARY:Healthcare Meetup at the Swedish Edmonds brand-new ACC Wing
DESCRIPTION:
URL:https://www.qualityhealth.org/event/healthcare-meetup-at-the-swedish-edmonds-brand-new-acc-wing/
CATEGORIES:WPSC Events
END:VEVENT
BEGIN:VEVENT
DTSTART;TZID=America/Los_Angeles:20161201T020000
DTEND;TZID=America/Los_Angeles:20161201T040000
DTSTAMP:20260422T124045
CREATED:20190807T054617Z
LAST-MODIFIED:20190807T054617Z
UID:6587-1480557600-1480564800@www.qualityhealth.org
SUMMARY:Fall Healthcare Career Fair
DESCRIPTION:
URL:https://www.qualityhealth.org/event/fall-healthcare-career-fair-2/
CATEGORIES:WPSC Events
END:VEVENT
BEGIN:VEVENT
DTSTART;TZID=America/Los_Angeles:20160930T020000
DTEND;TZID=America/Los_Angeles:20160930T100000
DTSTAMP:20260422T124045
CREATED:20190807T055548Z
LAST-MODIFIED:20190807T055548Z
UID:6605-1475200800-1475229600@www.qualityhealth.org
SUMMARY:City U of Seattle: Working with Trauma Survivors Seminars
DESCRIPTION:
URL:https://www.qualityhealth.org/event/city-u-of-seattle-working-with-trauma-survivors-seminars/
CATEGORIES:WPSC Events
END:VEVENT
BEGIN:VEVENT
DTSTART;TZID=America/Los_Angeles:20160929T003000
DTEND;TZID=America/Los_Angeles:20160929T093000
DTSTAMP:20260422T124045
CREATED:20190807T055446Z
LAST-MODIFIED:20190807T055446Z
UID:6602-1475109000-1475141400@www.qualityhealth.org
SUMMARY:Fundamentals of Communication and Resolution Programs
DESCRIPTION:
URL:https://www.qualityhealth.org/event/fundamentals-of-communication-and-resolution-programs/
CATEGORIES:WPSC Events
END:VEVENT
BEGIN:VEVENT
DTSTART;TZID=America/Los_Angeles:20160929T000000
DTEND;TZID=America/Los_Angeles:20160929T093000
DTSTAMP:20260422T124045
CREATED:20190807T055313Z
LAST-MODIFIED:20190807T055313Z
UID:6600-1475107200-1475141400@www.qualityhealth.org
SUMMARY:Global Cardio-Oncology Summit 2016
DESCRIPTION:
URL:https://www.qualityhealth.org/event/global-cardio-oncology-summit-2016/
CATEGORIES:WPSC Events
END:VEVENT
BEGIN:VEVENT
DTSTART;TZID=America/Los_Angeles:20160920T010000
DTEND;TZID=America/Los_Angeles:20160920T103000
DTSTAMP:20260422T124045
CREATED:20190807T055005Z
LAST-MODIFIED:20190807T055005Z
UID:6593-1474333200-1474367400@www.qualityhealth.org
SUMMARY:Navigating the Teen Years: Caring for the Adolescent and Young Adult (AYA)
DESCRIPTION:
URL:https://www.qualityhealth.org/event/navigating-the-teen-years-caring-for-the-adolescent-and-young-adult-aya/
CATEGORIES:WPSC Events
END:VEVENT
BEGIN:VEVENT
DTSTART;TZID=America/Los_Angeles:20160914T100000
DTEND;TZID=America/Los_Angeles:20160914T120000
DTSTAMP:20260422T124045
CREATED:20190807T055212Z
LAST-MODIFIED:20190807T055212Z
UID:6598-1473847200-1473854400@www.qualityhealth.org
SUMMARY:WSU College of Nursing Cleveland Visiting Scholar Lecture & Reception
DESCRIPTION:
URL:https://www.qualityhealth.org/event/wsu-college-of-nursing-cleveland-visiting-scholar-lecture-reception/
CATEGORIES:WPSC Events
END:VEVENT
BEGIN:VEVENT
DTSTART;TZID=America/Los_Angeles:20160912T031000
DTEND;TZID=America/Los_Angeles:20160912T040000
DTSTAMP:20260422T124045
CREATED:20190807T054915Z
LAST-MODIFIED:20190807T054915Z
UID:6591-1473649800-1473652800@www.qualityhealth.org
SUMMARY:Washington State University-Vancouver Medicine as a Career class presentation
DESCRIPTION:
URL:https://www.qualityhealth.org/event/washington-state-university-vancouver-medicine-as-a-career-class-presentation/
CATEGORIES:WPSC Events
END:VEVENT
BEGIN:VEVENT
DTSTART;TZID=America/Los_Angeles:20160909T010000
DTEND;TZID=America/Los_Angeles:20160909T100000
DTSTAMP:20260422T124045
CREATED:20190807T055056Z
LAST-MODIFIED:20190807T055056Z
UID:6595-1473382800-1473415200@www.qualityhealth.org
SUMMARY:Edge of Amazing 2016: Neighborhood to Nation
DESCRIPTION:
URL:https://www.qualityhealth.org/event/edge-of-amazing-2016-neighborhood-to-nation/
CATEGORIES:WPSC Events
END:VEVENT
END:VCALENDAR