BEGIN:VCALENDAR
VERSION:2.0
PRODID:-//Foundation For Health Care Quality - ECPv6.15.13//NONSGML v1.0//EN
CALSCALE:GREGORIAN
METHOD:PUBLISH
X-ORIGINAL-URL:https://www.qualityhealth.org
X-WR-CALDESC:Events for Foundation For Health Care Quality
REFRESH-INTERVAL;VALUE=DURATION:PT1H
X-Robots-Tag:noindex
X-PUBLISHED-TTL:PT1H
BEGIN:VTIMEZONE
TZID:America/Los_Angeles
BEGIN:DAYLIGHT
TZOFFSETFROM:-0800
TZOFFSETTO:-0700
TZNAME:PDT
DTSTART:20250309T100000
END:DAYLIGHT
BEGIN:STANDARD
TZOFFSETFROM:-0700
TZOFFSETTO:-0800
TZNAME:PST
DTSTART:20251102T090000
END:STANDARD
BEGIN:DAYLIGHT
TZOFFSETFROM:-0800
TZOFFSETTO:-0700
TZNAME:PDT
DTSTART:20260308T100000
END:DAYLIGHT
BEGIN:STANDARD
TZOFFSETFROM:-0700
TZOFFSETTO:-0800
TZNAME:PST
DTSTART:20261101T090000
END:STANDARD
BEGIN:DAYLIGHT
TZOFFSETFROM:-0800
TZOFFSETTO:-0700
TZNAME:PDT
DTSTART:20270314T100000
END:DAYLIGHT
BEGIN:STANDARD
TZOFFSETFROM:-0700
TZOFFSETTO:-0800
TZNAME:PST
DTSTART:20271107T090000
END:STANDARD
END:VTIMEZONE
BEGIN:VEVENT
DTSTART;TZID=America/Los_Angeles:20260106T110000
DTEND;TZID=America/Los_Angeles:20260106T120000
DTSTAMP:20260422T194455
CREATED:20251015T184954Z
LAST-MODIFIED:20251015T185556Z
UID:10655-1767697200-1767700800@www.qualityhealth.org
SUMMARY:MC Auburn & Smooth Transitions PTC
DESCRIPTION:Meeting Link: https://teams.microsoft.com/l/meetup-join/19%3ameeting_YjJhZDM5MjktMjYwNS00YmVjLWE5YzMtNTdjYWU3MDJkYTky%40thread.v2/0?context=%7b%22Tid%22%3a%22a69a21c2-0f80-4a2e-947e-2a66fe0e1b71%22%2c%22Oid%22%3a%22207bb0bf-4db3-4223-a69f-d6d1dc8cdc75%22%7d
URL:https://www.qualityhealth.org/event/mc-auburn-st-ptc-meeting/
CATEGORIES:Smooth Transitions Events
END:VEVENT
BEGIN:VEVENT
DTSTART;TZID=America/Los_Angeles:20260114T143000
DTEND;TZID=America/Los_Angeles:20260114T160000
DTSTAMP:20260422T194455
CREATED:20251013T173430Z
LAST-MODIFIED:20251013T173430Z
UID:10638-1768401000-1768406400@www.qualityhealth.org
SUMMARY:Bree Perimenopause and Menopause Workgroup
DESCRIPTION:This is meeting is regularly held HYBRID. Please check your inbox for reminder emails that are sent a regularly a week before each meeting for any adjustments. \n \nIn person attendance at our office:\nIndustrious 400U @Rainier Square\n400 University Street\, Floor 3\, Seattle WA 98101\n\nIf you are coming in person\, please email bree@qualityhealth.org so we may plan for your attendance.\n\n________________________________________________________________________________\nMicrosoft Teams Need help?\nJoin the meeting now\nMeeting ID: 247 093 541 468 2\nPasscode: qE9qi2Zk
URL:https://www.qualityhealth.org/event/bree-perimenopause-and-menopause-workgroup/
CATEGORIES:Bree Collaborative Events
END:VEVENT
BEGIN:VEVENT
DTSTART;TZID=America/Los_Angeles:20260115T120000
DTEND;TZID=America/Los_Angeles:20260115T130000
DTSTAMP:20260422T194455
CREATED:20250912T211504Z
LAST-MODIFIED:20250912T211504Z
UID:10596-1768478400-1768482000@www.qualityhealth.org
SUMMARY:Smooth Transitions & Overlake PTC Meeting
DESCRIPTION:Meeting Link: https://teams.microsoft.com/l/meetup-join/19%3ameeting_NDA4YWVhNGItNjUzNi00ZWQ3LWI2MGItZjgyZTQ1MjFlMzY1%40thread.v2/0?context=%7b%22Tid%22%3a%224cf0b97f-03cd-4897-8608-203f0a9dbda8%22%2c%22Oid%22%3a%223afa5fcf-65d9-4a70-9691-703019809ed3%22%7d
URL:https://www.qualityhealth.org/event/smooth-transitions-overlake-ptc-meeting-2026-01-15/
CATEGORIES:Smooth Transitions Events
END:VEVENT
BEGIN:VEVENT
DTSTART;TZID=America/Los_Angeles:20260128T130000
DTEND;TZID=America/Los_Angeles:20260128T150000
DTSTAMP:20260422T194456
CREATED:20251013T172710Z
LAST-MODIFIED:20251013T172710Z
UID:10627-1769605200-1769612400@www.qualityhealth.org
SUMMARY:Bree Collaborative Member Meeting
DESCRIPTION:All events will have a hybrid attendance option\, although we encourage Bree Collaborative members to attend in person!\n \nIn person location (except September Retreat!): \n400 University Street\nSuite 300\nSeattle\, WA 98101\nLocation: Industrious – Office Space – Google Maps\n\nPlease email bree@qualityhealth.org before each meeting to inform Bree staff if you plan to attend in person!\n\nYou are invited to a Zoom webinar!\nWhen: Jan 28\, 2026 01:00 PM Pacific Time (US and Canada)\nEvery 2 months on the Fourth Wed\, until Nov 25\, 2026\, 6 occurrence(s)\nJan 28\, 2026 01:00 PM\nMar 25\, 2026 01:00 PM\nMay 27\, 2026 01:00 PM\nJul 22\, 2026 01:00 PM\nSep 23\, 2026 01:00 PM\nNov 25\, 2026 01:00 PM\nPlease download and import the following iCalendar (.ics) files to your calendar system.\nMonthly: https://us02web.zoom.us/webinar/tZcqcOqppjwrHNxagaqRafZf4nvqFTHkQN6S/ics?icsToken=DLcJsIlEF9bleqRQ1wAALAAAAIw3h3mearCXgmACKBw32E7XbPzivVFCYVnEmS3tOd-GS3yJQ6IyhQNpyKYvN-whfscuiO2ZKuQ5ydNdjDAwMDAwMQ\nTopic:  Bree Collaborative 2026 Meetings\n\nJoin from PC\, Mac\, iPad\, or Android:\nhttps://us02web.zoom.us/j/83773187168\n\nPhone one-tap:\n+12532050468\,\,83773187168# US\n+12532158782\,\,83773187168# US (Tacoma)\n\nJoin via audio:\n+1 253 205 0468 US\n+1 253 215 8782 US (Tacoma)\n+1 346 248 7799 US (Houston)\n+1 669 444 9171 US\n+1 669 900 6833 US (San Jose)\n+1 719 359 4580 US\n+1 301 715 8592 US (Washington DC)\n+1 305 224 1968 US\n+1 309 205 3325 US\n+1 312 626 6799 US (Chicago)\n+1 360 209 5623 US\n+1 386 347 5053 US\n+1 507 473 4847 US\n+1 564 217 2000 US\n+1 646 876 9923 US (New York)\n+1 646 931 3860 US\n+1 689 278 1000 US\nWebinar ID: 837 7318 7168\nInternational numbers available: https://us02web.zoom.us/u/kbTlpp1UQ
URL:https://www.qualityhealth.org/event/bree-collaborative-member-meeting/
CATEGORIES:Bree Collaborative Events
END:VEVENT
BEGIN:VEVENT
DTSTART;TZID=America/Los_Angeles:20260129T073000
DTEND;TZID=America/Los_Angeles:20260129T083000
DTSTAMP:20260422T194456
CREATED:20251210T171903Z
LAST-MODIFIED:20251210T171924Z
UID:10685-1769671800-1769675400@www.qualityhealth.org
SUMMARY:Bree Report on Spotlight on Surgical Patient Optimization
DESCRIPTION:Bree Report on Spotlight on Surgical Patient Optimization\nThursday\, January 29th 7:30-8:30AM PST Virtually.\nCME may be provided upon approval*\nDescription: Join us for a focused webinar highlighting strategies to improve Surgical Patient Optimization. Our dedicated workgroup members will share insights on supporting patients undergoing surgery—particularly those with conditions such as anemia or hyperglycemia—and discuss how clinicians\, health plans\, and other partners in the health ecosystem can use the Bree Report on Surgical Patient Optimization to enhance surgical outcomes. We will also explore practical approaches for evaluating improvement efforts and measuring their impact on patient health. \nSign up here to attend \nSpeakers: \n\nCarl Olden\, MD- UW Residency Program Manager\, Family Medicine Physician at Central Washington Family Medicine [Workgroup Chair]\nNicholas J. Kassebaum\, MD- Medical Director of SCOAP/Spine COAP\nMore speakers to be announced\n\nWe intend to record this event. The event recording will be accessible on our website. \n* Confirmed registrant attendance
URL:https://www.qualityhealth.org/event/bree-report-on-spotlight-on-surgical-patient-optimization/
CATEGORIES:Bree Collaborative Events,SCOAP Events,Spine COAP Events
END:VEVENT
END:VCALENDAR